BEGIN:VCALENDAR
VERSION:2.0
PRODID:-//Temple Israel Miller - ECPv6.15.20//NONSGML v1.0//EN
CALSCALE:GREGORIAN
METHOD:PUBLISH
X-WR-CALNAME:Temple Israel Miller
X-ORIGINAL-URL:https://templeisraelmiller.org
X-WR-CALDESC:Events for Temple Israel Miller
REFRESH-INTERVAL;VALUE=DURATION:PT1H
X-Robots-Tag:noindex
X-PUBLISHED-TTL:PT1H
BEGIN:VTIMEZONE
TZID:UTC
BEGIN:STANDARD
TZOFFSETFROM:+0000
TZOFFSETTO:+0000
TZNAME:UTC
DTSTART:20230101T000000
END:STANDARD
END:VTIMEZONE
BEGIN:VEVENT
DTSTART;VALUE=DATE:20241003
DTEND;VALUE=DATE:20241004
DTSTAMP:20260421T094908
CREATED:20240904T182347Z
LAST-MODIFIED:20240904T182347Z
UID:14507-1727913600-1727999999@templeisraelmiller.org
SUMMARY:Rosh Hashanah
DESCRIPTION:
URL:https://templeisraelmiller.org/event/rosh-hashanah-2/
END:VEVENT
BEGIN:VEVENT
DTSTART;TZID=UTC:20241003T100000
DTEND;TZID=UTC:20241003T120000
DTSTAMP:20260421T094908
CREATED:20240904T182502Z
LAST-MODIFIED:20240904T182502Z
UID:14513-1727949600-1727956800@templeisraelmiller.org
SUMMARY:Rosh Hashanah Serivces
DESCRIPTION:
URL:https://templeisraelmiller.org/event/rosh-hashanah-serivces/
END:VEVENT
BEGIN:VEVENT
DTSTART;TZID=UTC:20241003T120000
DTEND;TZID=UTC:20241003T123000
DTSTAMP:20260421T094908
CREATED:20240904T182523Z
LAST-MODIFIED:20240904T182523Z
UID:14515-1727956800-1727958600@templeisraelmiller.org
SUMMARY:Tashlich at the Beach
DESCRIPTION:
URL:https://templeisraelmiller.org/event/tashlich-at-the-beach/
END:VEVENT
END:VCALENDAR