BEGIN:VCALENDAR
VERSION:2.0
PRODID:-//Temple Israel Miller - ECPv6.15.20//NONSGML v1.0//EN
CALSCALE:GREGORIAN
METHOD:PUBLISH
X-WR-CALNAME:Temple Israel Miller
X-ORIGINAL-URL:https://templeisraelmiller.org
X-WR-CALDESC:Events for Temple Israel Miller
REFRESH-INTERVAL;VALUE=DURATION:PT1H
X-Robots-Tag:noindex
X-PUBLISHED-TTL:PT1H
BEGIN:VTIMEZONE
TZID:UTC
BEGIN:STANDARD
TZOFFSETFROM:+0000
TZOFFSETTO:+0000
TZNAME:UTC
DTSTART:20230101T000000
END:STANDARD
END:VTIMEZONE
BEGIN:VEVENT
DTSTART;VALUE=DATE:20241012
DTEND;VALUE=DATE:20241013
DTSTAMP:20260421T120633
CREATED:20240916T173848Z
LAST-MODIFIED:20240916T173848Z
UID:14558-1728691200-1728777599@templeisraelmiller.org
SUMMARY:Yom Kippur
DESCRIPTION:
URL:https://templeisraelmiller.org/event/yom-kippur-4/
END:VEVENT
BEGIN:VEVENT
DTSTART;TZID=UTC:20241012T100000
DTEND;TZID=UTC:20241012T120000
DTSTAMP:20260421T120633
CREATED:20240904T182719Z
LAST-MODIFIED:20240904T182719Z
UID:14521-1728727200-1728734400@templeisraelmiller.org
SUMMARY:Yom Kippur
DESCRIPTION:
URL:https://templeisraelmiller.org/event/yom-kippur-2/
END:VEVENT
BEGIN:VEVENT
DTSTART;TZID=UTC:20241012T160000
DTEND;TZID=UTC:20241012T170000
DTSTAMP:20260421T120633
CREATED:20240904T182745Z
LAST-MODIFIED:20240904T182745Z
UID:14523-1728748800-1728752400@templeisraelmiller.org
SUMMARY:Yizkor
DESCRIPTION:
URL:https://templeisraelmiller.org/event/yizkor/
END:VEVENT
BEGIN:VEVENT
DTSTART;TZID=UTC:20241012T170000
DTEND;TZID=UTC:20241012T180000
DTSTAMP:20260421T120633
CREATED:20240904T182810Z
LAST-MODIFIED:20240904T182810Z
UID:14525-1728752400-1728756000@templeisraelmiller.org
SUMMARY:Ne'ilah
DESCRIPTION:
URL:https://templeisraelmiller.org/event/neilah/
END:VEVENT
BEGIN:VEVENT
DTSTART;TZID=UTC:20241012T180000
DTEND;TZID=UTC:20241012T190000
DTSTAMP:20260421T120633
CREATED:20240904T182828Z
LAST-MODIFIED:20240904T182828Z
UID:14527-1728756000-1728759600@templeisraelmiller.org
SUMMARY:Break-the-Fast
DESCRIPTION:
URL:https://templeisraelmiller.org/event/break-the-fast/
END:VEVENT
END:VCALENDAR