BEGIN:VCALENDAR
VERSION:2.0
PRODID:-//Temple Israel Miller - ECPv6.15.20//NONSGML v1.0//EN
CALSCALE:GREGORIAN
METHOD:PUBLISH
X-ORIGINAL-URL:https://templeisraelmiller.org
X-WR-CALDESC:Events for Temple Israel Miller
REFRESH-INTERVAL;VALUE=DURATION:PT1H
X-Robots-Tag:noindex
X-PUBLISHED-TTL:PT1H
BEGIN:VTIMEZONE
TZID:UTC
BEGIN:STANDARD
TZOFFSETFROM:+0000
TZOFFSETTO:+0000
TZNAME:UTC
DTSTART:20230101T000000
END:STANDARD
END:VTIMEZONE
BEGIN:VEVENT
DTSTART;VALUE=DATE:20241016
DTEND;VALUE=DATE:20241024
DTSTAMP:20260421T121148
CREATED:20240916T173908Z
LAST-MODIFIED:20240916T173908Z
UID:14560-1729036800-1729727999@templeisraelmiller.org
SUMMARY:Sukkot
DESCRIPTION:
URL:https://templeisraelmiller.org/event/sukkot-2/
END:VEVENT
BEGIN:VEVENT
DTSTART;TZID=UTC:20241021T190000
DTEND;TZID=UTC:20241021T200000
DTSTAMP:20260421T121148
CREATED:20240916T173601Z
LAST-MODIFIED:20240916T173601Z
UID:14544-1729537200-1729540800@templeisraelmiller.org
SUMMARY:Learn to Read Hebrew via Zoom
DESCRIPTION:
URL:https://templeisraelmiller.org/event/learn-to-read-hebrew-via-zoom-45/
END:VEVENT
END:VCALENDAR