BEGIN:VCALENDAR
VERSION:2.0
PRODID:-//Temple Israel Miller - ECPv6.15.20//NONSGML v1.0//EN
CALSCALE:GREGORIAN
METHOD:PUBLISH
X-ORIGINAL-URL:https://templeisraelmiller.org
X-WR-CALDESC:Events for Temple Israel Miller
REFRESH-INTERVAL;VALUE=DURATION:PT1H
X-Robots-Tag:noindex
X-PUBLISHED-TTL:PT1H
BEGIN:VTIMEZONE
TZID:UTC
BEGIN:STANDARD
TZOFFSETFROM:+0000
TZOFFSETTO:+0000
TZNAME:UTC
DTSTART:20240101T000000
END:STANDARD
END:VTIMEZONE
BEGIN:VEVENT
DTSTART;VALUE=DATE:20250422
DTEND;VALUE=DATE:20250423
DTSTAMP:20260421T175633
CREATED:20250407T154052Z
LAST-MODIFIED:20250407T154052Z
UID:14617-1745280000-1745366399@templeisraelmiller.org
SUMMARY:Earth Day
DESCRIPTION:
URL:https://templeisraelmiller.org/event/earth-day-2/
END:VEVENT
BEGIN:VEVENT
DTSTART;TZID=UTC:20250422T190000
DTEND;TZID=UTC:20250422T203000
DTSTAMP:20260421T175633
CREATED:20250407T153703Z
LAST-MODIFIED:20250407T153703Z
UID:14601-1745348400-1745353800@templeisraelmiller.org
SUMMARY:Board Mtg
DESCRIPTION:
URL:https://templeisraelmiller.org/event/board-mtg-2/
END:VEVENT
END:VCALENDAR