BEGIN:VCALENDAR
VERSION:2.0
PRODID:-//Temple Israel Miller - ECPv6.15.20//NONSGML v1.0//EN
CALSCALE:GREGORIAN
METHOD:PUBLISH
X-WR-CALNAME:Temple Israel Miller
X-ORIGINAL-URL:https://templeisraelmiller.org
X-WR-CALDESC:Events for Temple Israel Miller
REFRESH-INTERVAL;VALUE=DURATION:PT1H
X-Robots-Tag:noindex
X-PUBLISHED-TTL:PT1H
BEGIN:VTIMEZONE
TZID:UTC
BEGIN:STANDARD
TZOFFSETFROM:+0000
TZOFFSETTO:+0000
TZNAME:UTC
DTSTART:20240101T000000
END:STANDARD
END:VTIMEZONE
BEGIN:VEVENT
DTSTART;TZID=UTC:20250426T140000
DTEND;TZID=UTC:20250426T160000
DTSTAMP:20260421T225252
CREATED:20250407T153732Z
LAST-MODIFIED:20250407T153732Z
UID:14603-1745676000-1745683200@templeisraelmiller.org
SUMMARY:Penny Harvest @ Arman's
DESCRIPTION:
URL:https://templeisraelmiller.org/event/penny-harvest-armans/
END:VEVENT
END:VCALENDAR