BEGIN:VCALENDAR
VERSION:2.0
PRODID:-//Temple Israel Miller - ECPv6.15.20//NONSGML v1.0//EN
CALSCALE:GREGORIAN
METHOD:PUBLISH
X-ORIGINAL-URL:https://templeisraelmiller.org
X-WR-CALDESC:Events for Temple Israel Miller
REFRESH-INTERVAL;VALUE=DURATION:PT1H
X-Robots-Tag:noindex
X-PUBLISHED-TTL:PT1H
BEGIN:VTIMEZONE
TZID:UTC
BEGIN:STANDARD
TZOFFSETFROM:+0000
TZOFFSETTO:+0000
TZNAME:UTC
DTSTART:20240101T000000
END:STANDARD
END:VTIMEZONE
BEGIN:VEVENT
DTSTART;TZID=UTC:20250509T140000
DTEND;TZID=UTC:20250509T160000
DTSTAMP:20260422T100501
CREATED:20250501T151200Z
LAST-MODIFIED:20250501T151200Z
UID:14640-1746799200-1746806400@templeisraelmiller.org
SUMMARY:Sisterhood Tea - Women of the Bible
DESCRIPTION:
URL:https://templeisraelmiller.org/event/sisterhood-tea-women-of-the-bible/
END:VEVENT
BEGIN:VEVENT
DTSTART;TZID=UTC:20250509T193000
DTEND;TZID=UTC:20250509T210000
DTSTAMP:20260422T100501
CREATED:20250501T150608Z
LAST-MODIFIED:20250501T150608Z
UID:14622-1746819000-1746824400@templeisraelmiller.org
SUMMARY:Friday Night Shabbat Service
DESCRIPTION:
URL:https://templeisraelmiller.org/event/friday-night-shabbat-service-40/
END:VEVENT
END:VCALENDAR