BEGIN:VCALENDAR
VERSION:2.0
PRODID:-//Temple Israel Miller - ECPv6.15.20//NONSGML v1.0//EN
CALSCALE:GREGORIAN
METHOD:PUBLISH
X-ORIGINAL-URL:https://templeisraelmiller.org
X-WR-CALDESC:Events for Temple Israel Miller
REFRESH-INTERVAL;VALUE=DURATION:PT1H
X-Robots-Tag:noindex
X-PUBLISHED-TTL:PT1H
BEGIN:VTIMEZONE
TZID:UTC
BEGIN:STANDARD
TZOFFSETFROM:+0000
TZOFFSETTO:+0000
TZNAME:UTC
DTSTART:20240101T000000
END:STANDARD
END:VTIMEZONE
BEGIN:VEVENT
DTSTART;TZID=UTC:20250524T140000
DTEND;TZID=UTC:20250524T170000
DTSTAMP:20260421T225658
CREATED:20250501T151234Z
LAST-MODIFIED:20250501T151234Z
UID:14642-1748095200-1748106000@templeisraelmiller.org
SUMMARY:Sisterhood Trip to see Forever Plaid
DESCRIPTION:
URL:https://templeisraelmiller.org/event/sisterhood-trip-to-see-forever-plaid/
END:VEVENT
END:VCALENDAR