BEGIN:VCALENDAR
VERSION:2.0
PRODID:-//Temple Israel Miller - ECPv6.15.20//NONSGML v1.0//EN
CALSCALE:GREGORIAN
METHOD:PUBLISH
X-WR-CALNAME:Temple Israel Miller
X-ORIGINAL-URL:https://templeisraelmiller.org
X-WR-CALDESC:Events for Temple Israel Miller
REFRESH-INTERVAL;VALUE=DURATION:PT1H
X-Robots-Tag:noindex
X-PUBLISHED-TTL:PT1H
BEGIN:VTIMEZONE
TZID:UTC
BEGIN:STANDARD
TZOFFSETFROM:+0000
TZOFFSETTO:+0000
TZNAME:UTC
DTSTART:20240101T000000
END:STANDARD
END:VTIMEZONE
BEGIN:VEVENT
DTSTART;TZID=UTC:20250531T100000
DTEND;TZID=UTC:20250531T130000
DTSTAMP:20260421T214325
CREATED:20250501T150900Z
LAST-MODIFIED:20250501T150900Z
UID:14630-1748685600-1748696400@templeisraelmiller.org
SUMMARY:Shavuot Service
DESCRIPTION:
URL:https://templeisraelmiller.org/event/shavuot-service-2/
END:VEVENT
END:VCALENDAR