BEGIN:VCALENDAR
VERSION:2.0
PRODID:-//Temple Israel Miller - ECPv6.15.20//NONSGML v1.0//EN
CALSCALE:GREGORIAN
METHOD:PUBLISH
X-ORIGINAL-URL:https://templeisraelmiller.org
X-WR-CALDESC:Events for Temple Israel Miller
REFRESH-INTERVAL;VALUE=DURATION:PT1H
X-Robots-Tag:noindex
X-PUBLISHED-TTL:PT1H
BEGIN:VTIMEZONE
TZID:UTC
BEGIN:STANDARD
TZOFFSETFROM:+0000
TZOFFSETTO:+0000
TZNAME:UTC
DTSTART:20240101T000000
END:STANDARD
END:VTIMEZONE
BEGIN:VEVENT
DTSTART;VALUE=DATE:20250923
DTEND;VALUE=DATE:20250924
DTSTAMP:20260422T221843
CREATED:20250730T163113Z
LAST-MODIFIED:20250730T163113Z
UID:14778-1758585600-1758671999@templeisraelmiller.org
SUMMARY:Rosh Hashanah
DESCRIPTION:
URL:https://templeisraelmiller.org/event/rosh-hashanah-3/
END:VEVENT
BEGIN:VEVENT
DTSTART;TZID=UTC:20250923T100000
DTEND;TZID=UTC:20250923T120000
DTSTAMP:20260422T221843
CREATED:20250730T162305Z
LAST-MODIFIED:20250730T162305Z
UID:14744-1758621600-1758628800@templeisraelmiller.org
SUMMARY:Rosh Hashanah Service & Tashlich
DESCRIPTION:
URL:https://templeisraelmiller.org/event/rosh-hashanah-service-tashlich/
END:VEVENT
END:VCALENDAR