BEGIN:VCALENDAR
VERSION:2.0
PRODID:-//Temple Israel Miller - ECPv6.15.20//NONSGML v1.0//EN
CALSCALE:GREGORIAN
METHOD:PUBLISH
X-WR-CALNAME:Temple Israel Miller
X-ORIGINAL-URL:https://templeisraelmiller.org
X-WR-CALDESC:Events for Temple Israel Miller
REFRESH-INTERVAL;VALUE=DURATION:PT1H
X-Robots-Tag:noindex
X-PUBLISHED-TTL:PT1H
BEGIN:VTIMEZONE
TZID:UTC
BEGIN:STANDARD
TZOFFSETFROM:+0000
TZOFFSETTO:+0000
TZNAME:UTC
DTSTART:20250101T000000
END:STANDARD
END:VTIMEZONE
BEGIN:VEVENT
DTSTART;TZID=UTC:20260401T180000
DTEND;TZID=UTC:20260401T200000
DTSTAMP:20260423T061020
CREATED:20260226T214525Z
LAST-MODIFIED:20260226T214525Z
UID:14924-1775066400-1775073600@templeisraelmiller.org
SUMMARY:Passover Seder
DESCRIPTION:
URL:https://templeisraelmiller.org/event/passover-seder-3/
END:VEVENT
BEGIN:VEVENT
DTSTART;TZID=UTC:20260403T190000
DTEND;TZID=UTC:20260403T210000
DTSTAMP:20260423T061020
CREATED:20260226T214803Z
LAST-MODIFIED:20260226T214803Z
UID:14937-1775242800-1775250000@templeisraelmiller.org
SUMMARY:Pop-Up Passover Shop
DESCRIPTION:
URL:https://templeisraelmiller.org/event/pop-up-passover-shop-6/
END:VEVENT
BEGIN:VEVENT
DTSTART;TZID=UTC:20260403T193000
DTEND;TZID=UTC:20260403T210000
DTSTAMP:20260423T061020
CREATED:20260226T214245Z
LAST-MODIFIED:20260226T214245Z
UID:14912-1775244600-1775250000@templeisraelmiller.org
SUMMARY:Friday Night Shabbat Service
DESCRIPTION:
URL:https://templeisraelmiller.org/event/friday-night-shabbat-service-85/
END:VEVENT
END:VCALENDAR