BEGIN:VCALENDAR
VERSION:2.0
PRODID:-//Temple Israel Miller - ECPv6.15.20//NONSGML v1.0//EN
CALSCALE:GREGORIAN
METHOD:PUBLISH
X-WR-CALNAME:Temple Israel Miller
X-ORIGINAL-URL:https://templeisraelmiller.org
X-WR-CALDESC:Events for Temple Israel Miller
REFRESH-INTERVAL;VALUE=DURATION:PT1H
X-Robots-Tag:noindex
X-PUBLISHED-TTL:PT1H
BEGIN:VTIMEZONE
TZID:UTC
BEGIN:STANDARD
TZOFFSETFROM:+0000
TZOFFSETTO:+0000
TZNAME:UTC
DTSTART:20240101T000000
END:STANDARD
END:VTIMEZONE
BEGIN:VEVENT
DTSTART;TZID=UTC:20250620T193000
DTEND;TZID=UTC:20250620T210000
DTSTAMP:20260421T231219
CREATED:20250530T144018Z
LAST-MODIFIED:20250530T144018Z
UID:14655-1750447800-1750453200@templeisraelmiller.org
SUMMARY:Friday Night Shabbat Service
DESCRIPTION:
URL:https://templeisraelmiller.org/event/friday-night-shabbat-service-45/
END:VEVENT
BEGIN:VEVENT
DTSTART;TZID=UTC:20250624T190000
DTEND;TZID=UTC:20250624T200000
DTSTAMP:20260421T231219
CREATED:20250530T144309Z
LAST-MODIFIED:20250530T144309Z
UID:14667-1750791600-1750795200@templeisraelmiller.org
SUMMARY:Zoom Book Discussion
DESCRIPTION:
URL:https://templeisraelmiller.org/event/zoom-book-discussion-12/
END:VEVENT
BEGIN:VEVENT
DTSTART;TZID=UTC:20250627T193000
DTEND;TZID=UTC:20250627T210000
DTSTAMP:20260421T231219
CREATED:20250530T144041Z
LAST-MODIFIED:20250530T144041Z
UID:14657-1751052600-1751058000@templeisraelmiller.org
SUMMARY:Friday Night Shabbat Service
DESCRIPTION:
URL:https://templeisraelmiller.org/event/friday-night-shabbat-service-46/
END:VEVENT
BEGIN:VEVENT
DTSTART;TZID=UTC:20250701T190000
DTEND;TZID=UTC:20250701T200000
DTSTAMP:20260421T231219
CREATED:20250530T144338Z
LAST-MODIFIED:20250530T144338Z
UID:14669-1751396400-1751400000@templeisraelmiller.org
SUMMARY:Zoom Book Discussion
DESCRIPTION:
URL:https://templeisraelmiller.org/event/zoom-book-discussion-13/
END:VEVENT
BEGIN:VEVENT
DTSTART;VALUE=DATE:20250704
DTEND;VALUE=DATE:20250705
DTSTAMP:20260421T231219
CREATED:20250530T144103Z
LAST-MODIFIED:20250530T144103Z
UID:14659-1751587200-1751673599@templeisraelmiller.org
SUMMARY:NO SERVICE
DESCRIPTION:
URL:https://templeisraelmiller.org/event/no-service-2/
END:VEVENT
BEGIN:VEVENT
DTSTART;TZID=UTC:20250708T190000
DTEND;TZID=UTC:20250708T200000
DTSTAMP:20260421T231219
CREATED:20250530T144909Z
LAST-MODIFIED:20250530T144909Z
UID:14684-1752001200-1752004800@templeisraelmiller.org
SUMMARY:Zoom Book Discussion
DESCRIPTION:
URL:https://templeisraelmiller.org/event/zoom-book-discussion-14/
END:VEVENT
BEGIN:VEVENT
DTSTART;TZID=UTC:20250711T180000
DTEND;TZID=UTC:20250711T193000
DTSTAMP:20260421T231219
CREATED:20250530T145108Z
LAST-MODIFIED:20250530T145108Z
UID:14692-1752256800-1752262200@templeisraelmiller.org
SUMMARY:Congregational BBQ
DESCRIPTION:
URL:https://templeisraelmiller.org/event/congregational-bbq-2/
END:VEVENT
BEGIN:VEVENT
DTSTART;TZID=UTC:20250711T193000
DTEND;TZID=UTC:20250711T210000
DTSTAMP:20260421T231219
CREATED:20250530T144708Z
LAST-MODIFIED:20250530T144708Z
UID:14676-1752262200-1752267600@templeisraelmiller.org
SUMMARY:Friday Night Shabbat Service
DESCRIPTION:
URL:https://templeisraelmiller.org/event/friday-night-shabbat-service-47/
END:VEVENT
BEGIN:VEVENT
DTSTART;TZID=UTC:20250715T190000
DTEND;TZID=UTC:20250715T200000
DTSTAMP:20260421T231219
CREATED:20250530T144931Z
LAST-MODIFIED:20250530T144931Z
UID:14686-1752606000-1752609600@templeisraelmiller.org
SUMMARY:Zoom Book Discussion
DESCRIPTION:
URL:https://templeisraelmiller.org/event/zoom-book-discussion-15/
END:VEVENT
BEGIN:VEVENT
DTSTART;TZID=UTC:20250718T193000
DTEND;TZID=UTC:20250718T210000
DTSTAMP:20260421T231219
CREATED:20250530T144736Z
LAST-MODIFIED:20250530T144736Z
UID:14678-1752867000-1752872400@templeisraelmiller.org
SUMMARY:Friday Night Shabbat Service
DESCRIPTION:
URL:https://templeisraelmiller.org/event/friday-night-shabbat-service-48/
END:VEVENT
BEGIN:VEVENT
DTSTART;TZID=UTC:20250719T183000
DTEND;TZID=UTC:20250719T213000
DTSTAMP:20260421T231219
CREATED:20250530T145208Z
LAST-MODIFIED:20250530T145208Z
UID:14695-1752949800-1752960600@templeisraelmiller.org
SUMMARY:Sisterhood at the Symphony
DESCRIPTION:
URL:https://templeisraelmiller.org/event/sisterhood-at-the-symphony-9/
END:VEVENT
BEGIN:VEVENT
DTSTART;TZID=UTC:20250722T190000
DTEND;TZID=UTC:20250722T200000
DTSTAMP:20260421T231219
CREATED:20250530T144951Z
LAST-MODIFIED:20250530T144951Z
UID:14688-1753210800-1753214400@templeisraelmiller.org
SUMMARY:Zoom Book Discussion
DESCRIPTION:
URL:https://templeisraelmiller.org/event/zoom-book-discussion-16/
END:VEVENT
BEGIN:VEVENT
DTSTART;TZID=UTC:20250725T193000
DTEND;TZID=UTC:20250725T210000
DTSTAMP:20260421T231219
CREATED:20250530T144801Z
LAST-MODIFIED:20250530T144801Z
UID:14680-1753471800-1753477200@templeisraelmiller.org
SUMMARY:Friday Night Shabbat Service
DESCRIPTION:
URL:https://templeisraelmiller.org/event/friday-night-shabbat-service-49/
END:VEVENT
BEGIN:VEVENT
DTSTART;TZID=UTC:20250729T190000
DTEND;TZID=UTC:20250729T200000
DTSTAMP:20260421T231219
CREATED:20250530T145019Z
LAST-MODIFIED:20250530T145019Z
UID:14690-1753815600-1753819200@templeisraelmiller.org
SUMMARY:Zoom Book Discussion
DESCRIPTION:
URL:https://templeisraelmiller.org/event/zoom-book-discussion-17/
END:VEVENT
BEGIN:VEVENT
DTSTART;TZID=UTC:20250801T193000
DTEND;TZID=UTC:20250801T210000
DTSTAMP:20260421T231219
CREATED:20250530T144833Z
LAST-MODIFIED:20250530T144833Z
UID:14682-1754076600-1754082000@templeisraelmiller.org
SUMMARY:Friday Night Shabbat Service
DESCRIPTION:
URL:https://templeisraelmiller.org/event/friday-night-shabbat-service-50/
END:VEVENT
BEGIN:VEVENT
DTSTART;VALUE=DATE:20250802
DTEND;VALUE=DATE:20250803
DTSTAMP:20260421T231219
CREATED:20250730T162624Z
LAST-MODIFIED:20250730T162624Z
UID:14758-1754092800-1754179199@templeisraelmiller.org
SUMMARY:Erev Tisha B'Av
DESCRIPTION:
URL:https://templeisraelmiller.org/event/erev-tisha-bav-2/
END:VEVENT
BEGIN:VEVENT
DTSTART;TZID=UTC:20250802T183000
DTEND;TZID=UTC:20250802T213000
DTSTAMP:20260421T231219
CREATED:20250530T145250Z
LAST-MODIFIED:20250530T145250Z
UID:14697-1754159400-1754170200@templeisraelmiller.org
SUMMARY:Sisterhood at the Symphony
DESCRIPTION:
URL:https://templeisraelmiller.org/event/sisterhood-at-the-symphony-10/
END:VEVENT
BEGIN:VEVENT
DTSTART;VALUE=DATE:20250803
DTEND;VALUE=DATE:20250804
DTSTAMP:20260421T231219
CREATED:20250730T162645Z
LAST-MODIFIED:20250730T162645Z
UID:14760-1754179200-1754265599@templeisraelmiller.org
SUMMARY:Tisha B'Av
DESCRIPTION:
URL:https://templeisraelmiller.org/event/tisha-bav-2/
END:VEVENT
BEGIN:VEVENT
DTSTART;TZID=UTC:20250807T170000
DTEND;TZID=UTC:20250807T190000
DTSTAMP:20260421T231219
CREATED:20250730T161659Z
LAST-MODIFIED:20250730T161659Z
UID:14716-1754586000-1754593200@templeisraelmiller.org
SUMMARY:Rummage Work Day
DESCRIPTION:
URL:https://templeisraelmiller.org/event/rummage-work-day-7/
END:VEVENT
BEGIN:VEVENT
DTSTART;TZID=UTC:20250808T193000
DTEND;TZID=UTC:20250808T210000
DTSTAMP:20260421T231219
CREATED:20250730T161249Z
LAST-MODIFIED:20250730T161249Z
UID:14700-1754681400-1754686800@templeisraelmiller.org
SUMMARY:Friday Night Shabbat Service
DESCRIPTION:
URL:https://templeisraelmiller.org/event/friday-night-shabbat-service-51/
END:VEVENT
BEGIN:VEVENT
DTSTART;VALUE=DATE:20250809
DTEND;VALUE=DATE:20250810
DTSTAMP:20260421T231219
CREATED:20250730T162706Z
LAST-MODIFIED:20250730T162706Z
UID:14762-1754697600-1754783999@templeisraelmiller.org
SUMMARY:Gary Air Show
DESCRIPTION:
URL:https://templeisraelmiller.org/event/gary-air-show/
END:VEVENT
BEGIN:VEVENT
DTSTART;VALUE=DATE:20250810
DTEND;VALUE=DATE:20250811
DTSTAMP:20260421T231219
CREATED:20250730T162721Z
LAST-MODIFIED:20250730T162721Z
UID:14764-1754784000-1754870399@templeisraelmiller.org
SUMMARY:Gary Air Show
DESCRIPTION:
URL:https://templeisraelmiller.org/event/gary-air-show-2/
END:VEVENT
BEGIN:VEVENT
DTSTART;TZID=UTC:20250811T100000
DTEND;TZID=UTC:20250811T120000
DTSTAMP:20260421T231219
CREATED:20250730T161721Z
LAST-MODIFIED:20250730T161721Z
UID:14718-1754906400-1754913600@templeisraelmiller.org
SUMMARY:Rummage Work Day
DESCRIPTION:
URL:https://templeisraelmiller.org/event/rummage-work-day-8/
END:VEVENT
BEGIN:VEVENT
DTSTART;TZID=UTC:20250812T190000
DTEND;TZID=UTC:20250812T200000
DTSTAMP:20260421T231219
CREATED:20250730T161440Z
LAST-MODIFIED:20250730T161440Z
UID:14708-1755025200-1755028800@templeisraelmiller.org
SUMMARY:Zoom Book Discussion
DESCRIPTION:
URL:https://templeisraelmiller.org/event/zoom-book-discussion-18/
END:VEVENT
BEGIN:VEVENT
DTSTART;TZID=UTC:20250815T193000
DTEND;TZID=UTC:20250815T210000
DTSTAMP:20260421T231219
CREATED:20250730T161306Z
LAST-MODIFIED:20250730T161306Z
UID:14702-1755286200-1755291600@templeisraelmiller.org
SUMMARY:Friday Night Shabbat Service
DESCRIPTION:
URL:https://templeisraelmiller.org/event/friday-night-shabbat-service-52/
END:VEVENT
BEGIN:VEVENT
DTSTART;TZID=UTC:20250816T183000
DTEND;TZID=UTC:20250816T210000
DTSTAMP:20260421T231219
CREATED:20250730T161606Z
LAST-MODIFIED:20250730T161606Z
UID:14714-1755369000-1755378000@templeisraelmiller.org
SUMMARY:Sisterhood at the Symphony
DESCRIPTION:
URL:https://templeisraelmiller.org/event/sisterhood-at-the-symphony-11/
END:VEVENT
BEGIN:VEVENT
DTSTART;TZID=UTC:20250819T190000
DTEND;TZID=UTC:20250819T200000
DTSTAMP:20260421T231219
CREATED:20250730T161458Z
LAST-MODIFIED:20250730T161458Z
UID:14710-1755630000-1755633600@templeisraelmiller.org
SUMMARY:Zoom Book Discussion
DESCRIPTION:
URL:https://templeisraelmiller.org/event/zoom-book-discussion-19/
END:VEVENT
BEGIN:VEVENT
DTSTART;TZID=UTC:20250820T100000
DTEND;TZID=UTC:20250820T120000
DTSTAMP:20260421T231219
CREATED:20250730T161744Z
LAST-MODIFIED:20250730T161744Z
UID:14720-1755684000-1755691200@templeisraelmiller.org
SUMMARY:Rummage Work Day
DESCRIPTION:
URL:https://templeisraelmiller.org/event/rummage-work-day-9/
END:VEVENT
BEGIN:VEVENT
DTSTART;TZID=UTC:20250822T193000
DTEND;TZID=UTC:20250822T210000
DTSTAMP:20260421T231219
CREATED:20250730T161324Z
LAST-MODIFIED:20250730T161324Z
UID:14704-1755891000-1755896400@templeisraelmiller.org
SUMMARY:Friday Night Shabbat Service
DESCRIPTION:
URL:https://templeisraelmiller.org/event/friday-night-shabbat-service-53/
END:VEVENT
BEGIN:VEVENT
DTSTART;TZID=UTC:20250824T140000
DTEND;TZID=UTC:20250824T170000
DTSTAMP:20260421T231219
CREATED:20250730T162140Z
LAST-MODIFIED:20250730T162140Z
UID:14738-1756044000-1756054800@templeisraelmiller.org
SUMMARY:Membership Trip to the RailCats Game
DESCRIPTION:
URL:https://templeisraelmiller.org/event/membership-trip-to-the-railcats-game-2/
END:VEVENT
END:VCALENDAR