BEGIN:VCALENDAR
VERSION:2.0
PRODID:-//Temple Israel Miller - ECPv6.15.20//NONSGML v1.0//EN
CALSCALE:GREGORIAN
METHOD:PUBLISH
X-WR-CALNAME:Temple Israel Miller
X-ORIGINAL-URL:https://templeisraelmiller.org
X-WR-CALDESC:Events for Temple Israel Miller
REFRESH-INTERVAL;VALUE=DURATION:PT1H
X-Robots-Tag:noindex
X-PUBLISHED-TTL:PT1H
BEGIN:VTIMEZONE
TZID:UTC
BEGIN:STANDARD
TZOFFSETFROM:+0000
TZOFFSETTO:+0000
TZNAME:UTC
DTSTART:20240101T000000
END:STANDARD
END:VTIMEZONE
BEGIN:VEVENT
DTSTART;TZID=UTC:20250824T140000
DTEND;TZID=UTC:20250824T170000
DTSTAMP:20260422T225603
CREATED:20250730T162140Z
LAST-MODIFIED:20250730T162140Z
UID:14738-1756044000-1756054800@templeisraelmiller.org
SUMMARY:Membership Trip to the RailCats Game
DESCRIPTION:
URL:https://templeisraelmiller.org/event/membership-trip-to-the-railcats-game-2/
END:VEVENT
BEGIN:VEVENT
DTSTART;TZID=UTC:20250826T190000
DTEND;TZID=UTC:20250826T200000
DTSTAMP:20260422T225603
CREATED:20250730T161518Z
LAST-MODIFIED:20250730T161518Z
UID:14712-1756234800-1756238400@templeisraelmiller.org
SUMMARY:Zoom Book Discussion
DESCRIPTION:
URL:https://templeisraelmiller.org/event/zoom-book-discussion-20/
END:VEVENT
BEGIN:VEVENT
DTSTART;TZID=UTC:20250827T100000
DTEND;TZID=UTC:20250827T120000
DTSTAMP:20260422T225603
CREATED:20250730T161810Z
LAST-MODIFIED:20250730T161810Z
UID:14722-1756288800-1756296000@templeisraelmiller.org
SUMMARY:Rummage Work Day
DESCRIPTION:
URL:https://templeisraelmiller.org/event/rummage-work-day-10/
END:VEVENT
BEGIN:VEVENT
DTSTART;TZID=UTC:20250829T193000
DTEND;TZID=UTC:20250829T210000
DTSTAMP:20260422T225603
CREATED:20250730T161342Z
LAST-MODIFIED:20250730T161342Z
UID:14706-1756495800-1756501200@templeisraelmiller.org
SUMMARY:Friday Night Shabbat Service
DESCRIPTION:
URL:https://templeisraelmiller.org/event/friday-night-shabbat-service-54/
END:VEVENT
BEGIN:VEVENT
DTSTART;VALUE=DATE:20250901
DTEND;VALUE=DATE:20250902
DTSTAMP:20260422T225603
CREATED:20250730T162747Z
LAST-MODIFIED:20250730T162747Z
UID:14766-1756684800-1756771199@templeisraelmiller.org
SUMMARY:Labor Day
DESCRIPTION:
URL:https://templeisraelmiller.org/event/labor-day-2/
END:VEVENT
BEGIN:VEVENT
DTSTART;TZID=UTC:20250902T100000
DTEND;TZID=UTC:20250902T120000
DTSTAMP:20260422T225603
CREATED:20250730T161836Z
LAST-MODIFIED:20250730T161836Z
UID:14724-1756807200-1756814400@templeisraelmiller.org
SUMMARY:Rummage Work Day
DESCRIPTION:
URL:https://templeisraelmiller.org/event/rummage-work-day-11/
END:VEVENT
BEGIN:VEVENT
DTSTART;TZID=UTC:20250904T170000
DTEND;TZID=UTC:20250904T190000
DTSTAMP:20260422T225603
CREATED:20250730T161858Z
LAST-MODIFIED:20250730T161858Z
UID:14726-1757005200-1757012400@templeisraelmiller.org
SUMMARY:Rummage Work Day
DESCRIPTION:
URL:https://templeisraelmiller.org/event/rummage-work-day-12/
END:VEVENT
BEGIN:VEVENT
DTSTART;TZID=UTC:20250905T193000
DTEND;TZID=UTC:20250905T210000
DTSTAMP:20260422T225603
CREATED:20250730T162906Z
LAST-MODIFIED:20250730T162906Z
UID:14768-1757100600-1757106000@templeisraelmiller.org
SUMMARY:Friday Night Shabbat Service
DESCRIPTION:
URL:https://templeisraelmiller.org/event/friday-night-shabbat-service-55/
END:VEVENT
BEGIN:VEVENT
DTSTART;TZID=UTC:20250908T170000
DTEND;TZID=UTC:20250908T190000
DTSTAMP:20260422T225603
CREATED:20250730T161953Z
LAST-MODIFIED:20250730T161953Z
UID:14728-1757350800-1757358000@templeisraelmiller.org
SUMMARY:Rummage Work Day
DESCRIPTION:
URL:https://templeisraelmiller.org/event/rummage-work-day-13/
END:VEVENT
BEGIN:VEVENT
DTSTART;TZID=UTC:20250910T100000
DTEND;TZID=UTC:20250910T120000
DTSTAMP:20260422T225603
CREATED:20250730T162010Z
LAST-MODIFIED:20250730T162010Z
UID:14730-1757498400-1757505600@templeisraelmiller.org
SUMMARY:Rummage Work Day
DESCRIPTION:
URL:https://templeisraelmiller.org/event/rummage-work-day-14/
END:VEVENT
BEGIN:VEVENT
DTSTART;TZID=UTC:20250911T100000
DTEND;TZID=UTC:20250911T120000
DTSTAMP:20260422T225603
CREATED:20250730T162029Z
LAST-MODIFIED:20250730T162029Z
UID:14732-1757584800-1757592000@templeisraelmiller.org
SUMMARY:Rummage Work Day
DESCRIPTION:
URL:https://templeisraelmiller.org/event/rummage-work-day-15/
END:VEVENT
BEGIN:VEVENT
DTSTART;TZID=UTC:20250912T100000
DTEND;TZID=UTC:20250912T140000
DTSTAMP:20260422T225603
CREATED:20250730T162102Z
LAST-MODIFIED:20250730T162102Z
UID:14734-1757671200-1757685600@templeisraelmiller.org
SUMMARY:Rummage Sale
DESCRIPTION:
URL:https://templeisraelmiller.org/event/rummage-sale-5/
END:VEVENT
BEGIN:VEVENT
DTSTART;TZID=UTC:20250912T193000
DTEND;TZID=UTC:20250912T210000
DTSTAMP:20260422T225603
CREATED:20250730T162922Z
LAST-MODIFIED:20250730T162922Z
UID:14770-1757705400-1757710800@templeisraelmiller.org
SUMMARY:Friday Night Shabbat Service
DESCRIPTION:
URL:https://templeisraelmiller.org/event/friday-night-shabbat-service-56/
END:VEVENT
BEGIN:VEVENT
DTSTART;TZID=UTC:20250914T120000
DTEND;TZID=UTC:20250914T150000
DTSTAMP:20260422T225603
CREATED:20250730T162120Z
LAST-MODIFIED:20250730T162120Z
UID:14736-1757851200-1757862000@templeisraelmiller.org
SUMMARY:Rummage Sale
DESCRIPTION:
URL:https://templeisraelmiller.org/event/rummage-sale-6/
END:VEVENT
BEGIN:VEVENT
DTSTART;TZID=UTC:20250915T190000
DTEND;TZID=UTC:20250915T200000
DTSTAMP:20260422T225603
CREATED:20250730T162215Z
LAST-MODIFIED:20250730T162215Z
UID:14740-1757962800-1757966400@templeisraelmiller.org
SUMMARY:High Holiday Zoom Program
DESCRIPTION:
URL:https://templeisraelmiller.org/event/high-holiday-zoom-program/
END:VEVENT
BEGIN:VEVENT
DTSTART;TZID=UTC:20250919T193000
DTEND;TZID=UTC:20250919T210000
DTSTAMP:20260422T225603
CREATED:20250730T162944Z
LAST-MODIFIED:20250730T162944Z
UID:14772-1758310200-1758315600@templeisraelmiller.org
SUMMARY:Friday Night Shabbat Service
DESCRIPTION:
URL:https://templeisraelmiller.org/event/friday-night-shabbat-service-57/
END:VEVENT
BEGIN:VEVENT
DTSTART;VALUE=DATE:20250922
DTEND;VALUE=DATE:20250923
DTSTAMP:20260422T225603
CREATED:20250730T163059Z
LAST-MODIFIED:20250730T163059Z
UID:14776-1758499200-1758585599@templeisraelmiller.org
SUMMARY:Erev Rosh Hashanah
DESCRIPTION:
URL:https://templeisraelmiller.org/event/erev-rosh-hashanah-3/
END:VEVENT
BEGIN:VEVENT
DTSTART;TZID=UTC:20250922T190000
DTEND;TZID=UTC:20250922T210000
DTSTAMP:20260422T225603
CREATED:20250730T162245Z
LAST-MODIFIED:20250730T162245Z
UID:14742-1758567600-1758574800@templeisraelmiller.org
SUMMARY:Erev Rosh Hashanah Service
DESCRIPTION:
URL:https://templeisraelmiller.org/event/erev-rosh-hashanah-service/
END:VEVENT
BEGIN:VEVENT
DTSTART;VALUE=DATE:20250923
DTEND;VALUE=DATE:20250924
DTSTAMP:20260422T225603
CREATED:20250730T163113Z
LAST-MODIFIED:20250730T163113Z
UID:14778-1758585600-1758671999@templeisraelmiller.org
SUMMARY:Rosh Hashanah
DESCRIPTION:
URL:https://templeisraelmiller.org/event/rosh-hashanah-3/
END:VEVENT
BEGIN:VEVENT
DTSTART;TZID=UTC:20250923T100000
DTEND;TZID=UTC:20250923T120000
DTSTAMP:20260422T225603
CREATED:20250730T162305Z
LAST-MODIFIED:20250730T162305Z
UID:14744-1758621600-1758628800@templeisraelmiller.org
SUMMARY:Rosh Hashanah Service & Tashlich
DESCRIPTION:
URL:https://templeisraelmiller.org/event/rosh-hashanah-service-tashlich/
END:VEVENT
BEGIN:VEVENT
DTSTART;TZID=UTC:20250926T193000
DTEND;TZID=UTC:20250926T210000
DTSTAMP:20260422T225603
CREATED:20250730T163003Z
LAST-MODIFIED:20250730T163003Z
UID:14774-1758915000-1758920400@templeisraelmiller.org
SUMMARY:Friday Night Shabbat Service
DESCRIPTION:
URL:https://templeisraelmiller.org/event/friday-night-shabbat-service-58/
END:VEVENT
BEGIN:VEVENT
DTSTART;TZID=UTC:20250928T100000
DTEND;TZID=UTC:20250928T110000
DTSTAMP:20260422T225603
CREATED:20250730T162321Z
LAST-MODIFIED:20250730T162321Z
UID:14746-1759053600-1759057200@templeisraelmiller.org
SUMMARY:Kever Avot
DESCRIPTION:
URL:https://templeisraelmiller.org/event/kever-avot/
END:VEVENT
BEGIN:VEVENT
DTSTART;VALUE=DATE:20251001
DTEND;VALUE=DATE:20251002
DTSTAMP:20260422T225603
CREATED:20250730T163127Z
LAST-MODIFIED:20250730T163127Z
UID:14780-1759276800-1759363199@templeisraelmiller.org
SUMMARY:Erev Yom Kippur
DESCRIPTION:
URL:https://templeisraelmiller.org/event/erev-yom-kippur-4/
END:VEVENT
BEGIN:VEVENT
DTSTART;TZID=UTC:20251001T190000
DTEND;TZID=UTC:20251001T210000
DTSTAMP:20260422T225603
CREATED:20250730T162344Z
LAST-MODIFIED:20250730T162344Z
UID:14748-1759345200-1759352400@templeisraelmiller.org
SUMMARY:Kol Nidre
DESCRIPTION:
URL:https://templeisraelmiller.org/event/kol-nidre-2/
END:VEVENT
BEGIN:VEVENT
DTSTART;VALUE=DATE:20251002
DTEND;VALUE=DATE:20251003
DTSTAMP:20260422T225603
CREATED:20250730T163138Z
LAST-MODIFIED:20250730T163138Z
UID:14782-1759363200-1759449599@templeisraelmiller.org
SUMMARY:Yom Kippur
DESCRIPTION:
URL:https://templeisraelmiller.org/event/yom-kippur-5/
END:VEVENT
BEGIN:VEVENT
DTSTART;TZID=UTC:20251002T100000
DTEND;TZID=UTC:20251002T120000
DTSTAMP:20260422T225603
CREATED:20250730T162406Z
LAST-MODIFIED:20250730T162406Z
UID:14750-1759399200-1759406400@templeisraelmiller.org
SUMMARY:Yom Kippur Morning Service
DESCRIPTION:
URL:https://templeisraelmiller.org/event/yom-kippur-morning-service-2/
END:VEVENT
BEGIN:VEVENT
DTSTART;TZID=UTC:20251002T160000
DTEND;TZID=UTC:20251002T170000
DTSTAMP:20260422T225603
CREATED:20250730T162435Z
LAST-MODIFIED:20250730T162435Z
UID:14752-1759420800-1759424400@templeisraelmiller.org
SUMMARY:Yom Kippur Afternoon Service
DESCRIPTION:
URL:https://templeisraelmiller.org/event/yom-kippur-afternoon-service/
END:VEVENT
BEGIN:VEVENT
DTSTART;TZID=UTC:20251002T170000
DTEND;TZID=UTC:20251002T180000
DTSTAMP:20260422T225603
CREATED:20250730T162500Z
LAST-MODIFIED:20250730T162500Z
UID:14754-1759424400-1759428000@templeisraelmiller.org
SUMMARY:Yizkor & Ne'ilah
DESCRIPTION:
URL:https://templeisraelmiller.org/event/yizkor-neilah/
END:VEVENT
BEGIN:VEVENT
DTSTART;TZID=UTC:20251002T180000
DTEND;TZID=UTC:20251002T200000
DTSTAMP:20260422T225603
CREATED:20250730T162526Z
LAST-MODIFIED:20250730T162526Z
UID:14756-1759428000-1759435200@templeisraelmiller.org
SUMMARY:Break-the-Fast
DESCRIPTION:
URL:https://templeisraelmiller.org/event/break-the-fast-2/
END:VEVENT
BEGIN:VEVENT
DTSTART;TZID=UTC:20251003T193000
DTEND;TZID=UTC:20251003T210000
DTSTAMP:20260422T225603
CREATED:20250930T185526Z
LAST-MODIFIED:20250930T185526Z
UID:14787-1759519800-1759525200@templeisraelmiller.org
SUMMARY:Friday Night Shabbat Service
DESCRIPTION:
URL:https://templeisraelmiller.org/event/friday-night-shabbat-service-59/
END:VEVENT
END:VCALENDAR