BEGIN:VCALENDAR
VERSION:2.0
PRODID:-//Temple Israel Miller - ECPv6.15.20//NONSGML v1.0//EN
CALSCALE:GREGORIAN
METHOD:PUBLISH
X-WR-CALNAME:Temple Israel Miller
X-ORIGINAL-URL:https://templeisraelmiller.org
X-WR-CALDESC:Events for Temple Israel Miller
REFRESH-INTERVAL;VALUE=DURATION:PT1H
X-Robots-Tag:noindex
X-PUBLISHED-TTL:PT1H
BEGIN:VTIMEZONE
TZID:UTC
BEGIN:STANDARD
TZOFFSETFROM:+0000
TZOFFSETTO:+0000
TZNAME:UTC
DTSTART:20240101T000000
END:STANDARD
END:VTIMEZONE
BEGIN:VEVENT
DTSTART;TZID=UTC:20250603T190000
DTEND;TZID=UTC:20250603T200000
DTSTAMP:20260422T074333
CREATED:20250530T144148Z
LAST-MODIFIED:20250530T144148Z
UID:14661-1748977200-1748980800@templeisraelmiller.org
SUMMARY:Zoom Book Discussion
DESCRIPTION:
URL:https://templeisraelmiller.org/event/zoom-book-discussion-9/
END:VEVENT
BEGIN:VEVENT
DTSTART;TZID=UTC:20250606T193000
DTEND;TZID=UTC:20250606T210000
DTSTAMP:20260422T074333
CREATED:20250530T143916Z
LAST-MODIFIED:20250530T143916Z
UID:14651-1749238200-1749243600@templeisraelmiller.org
SUMMARY:Friday Night Shabbat Service
DESCRIPTION:
URL:https://templeisraelmiller.org/event/friday-night-shabbat-service-43/
END:VEVENT
BEGIN:VEVENT
DTSTART;TZID=UTC:20250610T190000
DTEND;TZID=UTC:20250610T200000
DTSTAMP:20260422T074333
CREATED:20250530T144226Z
LAST-MODIFIED:20250530T144226Z
UID:14663-1749582000-1749585600@templeisraelmiller.org
SUMMARY:Zoom Book Discussion
DESCRIPTION:
URL:https://templeisraelmiller.org/event/zoom-book-discussion-10/
END:VEVENT
BEGIN:VEVENT
DTSTART;TZID=UTC:20250611T110000
DTEND;TZID=UTC:20250611T160000
DTSTAMP:20260422T074333
CREATED:20250530T144546Z
LAST-MODIFIED:20250530T144546Z
UID:14671-1749639600-1749657600@templeisraelmiller.org
SUMMARY:Sisterhood Trip to the Art Institute
DESCRIPTION:
URL:https://templeisraelmiller.org/event/sisterhood-trip-to-the-art-institute/
END:VEVENT
BEGIN:VEVENT
DTSTART;TZID=UTC:20250613T193000
DTEND;TZID=UTC:20250613T210000
DTSTAMP:20260422T074333
CREATED:20250530T143952Z
LAST-MODIFIED:20250530T143952Z
UID:14653-1749843000-1749848400@templeisraelmiller.org
SUMMARY:Friday Night Shabbat Service
DESCRIPTION:
URL:https://templeisraelmiller.org/event/friday-night-shabbat-service-44/
END:VEVENT
BEGIN:VEVENT
DTSTART;TZID=UTC:20250617T190000
DTEND;TZID=UTC:20250617T200000
DTSTAMP:20260422T074333
CREATED:20250530T144249Z
LAST-MODIFIED:20250530T144249Z
UID:14665-1750186800-1750190400@templeisraelmiller.org
SUMMARY:Zoom Book Discussion
DESCRIPTION:
URL:https://templeisraelmiller.org/event/zoom-book-discussion-11/
END:VEVENT
BEGIN:VEVENT
DTSTART;TZID=UTC:20250617T190000
DTEND;TZID=UTC:20250617T203000
DTSTAMP:20260422T074333
CREATED:20250530T144618Z
LAST-MODIFIED:20250530T144618Z
UID:14674-1750186800-1750192200@templeisraelmiller.org
SUMMARY:Board Meeting
DESCRIPTION:
URL:https://templeisraelmiller.org/event/board-meeting-11/
END:VEVENT
BEGIN:VEVENT
DTSTART;TZID=UTC:20250620T193000
DTEND;TZID=UTC:20250620T210000
DTSTAMP:20260422T074333
CREATED:20250530T144018Z
LAST-MODIFIED:20250530T144018Z
UID:14655-1750447800-1750453200@templeisraelmiller.org
SUMMARY:Friday Night Shabbat Service
DESCRIPTION:
URL:https://templeisraelmiller.org/event/friday-night-shabbat-service-45/
END:VEVENT
BEGIN:VEVENT
DTSTART;TZID=UTC:20250624T190000
DTEND;TZID=UTC:20250624T200000
DTSTAMP:20260422T074333
CREATED:20250530T144309Z
LAST-MODIFIED:20250530T144309Z
UID:14667-1750791600-1750795200@templeisraelmiller.org
SUMMARY:Zoom Book Discussion
DESCRIPTION:
URL:https://templeisraelmiller.org/event/zoom-book-discussion-12/
END:VEVENT
BEGIN:VEVENT
DTSTART;TZID=UTC:20250627T193000
DTEND;TZID=UTC:20250627T210000
DTSTAMP:20260422T074333
CREATED:20250530T144041Z
LAST-MODIFIED:20250530T144041Z
UID:14657-1751052600-1751058000@templeisraelmiller.org
SUMMARY:Friday Night Shabbat Service
DESCRIPTION:
URL:https://templeisraelmiller.org/event/friday-night-shabbat-service-46/
END:VEVENT
END:VCALENDAR