BEGIN:VCALENDAR
VERSION:2.0
PRODID:-//Temple Israel Miller - ECPv6.15.20//NONSGML v1.0//EN
CALSCALE:GREGORIAN
METHOD:PUBLISH
X-ORIGINAL-URL:https://templeisraelmiller.org
X-WR-CALDESC:Events for Temple Israel Miller
REFRESH-INTERVAL;VALUE=DURATION:PT1H
X-Robots-Tag:noindex
X-PUBLISHED-TTL:PT1H
BEGIN:VTIMEZONE
TZID:UTC
BEGIN:STANDARD
TZOFFSETFROM:+0000
TZOFFSETTO:+0000
TZNAME:UTC
DTSTART:20240101T000000
END:STANDARD
END:VTIMEZONE
BEGIN:VEVENT
DTSTART;TZID=UTC:20250701T190000
DTEND;TZID=UTC:20250701T200000
DTSTAMP:20260422T150242
CREATED:20250530T144338Z
LAST-MODIFIED:20250530T144338Z
UID:14669-1751396400-1751400000@templeisraelmiller.org
SUMMARY:Zoom Book Discussion
DESCRIPTION:
URL:https://templeisraelmiller.org/event/zoom-book-discussion-13/
END:VEVENT
BEGIN:VEVENT
DTSTART;VALUE=DATE:20250704
DTEND;VALUE=DATE:20250705
DTSTAMP:20260422T150242
CREATED:20250530T144103Z
LAST-MODIFIED:20250530T144103Z
UID:14659-1751587200-1751673599@templeisraelmiller.org
SUMMARY:NO SERVICE
DESCRIPTION:
URL:https://templeisraelmiller.org/event/no-service-2/
END:VEVENT
BEGIN:VEVENT
DTSTART;TZID=UTC:20250708T190000
DTEND;TZID=UTC:20250708T200000
DTSTAMP:20260422T150242
CREATED:20250530T144909Z
LAST-MODIFIED:20250530T144909Z
UID:14684-1752001200-1752004800@templeisraelmiller.org
SUMMARY:Zoom Book Discussion
DESCRIPTION:
URL:https://templeisraelmiller.org/event/zoom-book-discussion-14/
END:VEVENT
BEGIN:VEVENT
DTSTART;TZID=UTC:20250711T180000
DTEND;TZID=UTC:20250711T193000
DTSTAMP:20260422T150242
CREATED:20250530T145108Z
LAST-MODIFIED:20250530T145108Z
UID:14692-1752256800-1752262200@templeisraelmiller.org
SUMMARY:Congregational BBQ
DESCRIPTION:
URL:https://templeisraelmiller.org/event/congregational-bbq-2/
END:VEVENT
BEGIN:VEVENT
DTSTART;TZID=UTC:20250711T193000
DTEND;TZID=UTC:20250711T210000
DTSTAMP:20260422T150242
CREATED:20250530T144708Z
LAST-MODIFIED:20250530T144708Z
UID:14676-1752262200-1752267600@templeisraelmiller.org
SUMMARY:Friday Night Shabbat Service
DESCRIPTION:
URL:https://templeisraelmiller.org/event/friday-night-shabbat-service-47/
END:VEVENT
BEGIN:VEVENT
DTSTART;TZID=UTC:20250715T190000
DTEND;TZID=UTC:20250715T200000
DTSTAMP:20260422T150242
CREATED:20250530T144931Z
LAST-MODIFIED:20250530T144931Z
UID:14686-1752606000-1752609600@templeisraelmiller.org
SUMMARY:Zoom Book Discussion
DESCRIPTION:
URL:https://templeisraelmiller.org/event/zoom-book-discussion-15/
END:VEVENT
BEGIN:VEVENT
DTSTART;TZID=UTC:20250718T193000
DTEND;TZID=UTC:20250718T210000
DTSTAMP:20260422T150242
CREATED:20250530T144736Z
LAST-MODIFIED:20250530T144736Z
UID:14678-1752867000-1752872400@templeisraelmiller.org
SUMMARY:Friday Night Shabbat Service
DESCRIPTION:
URL:https://templeisraelmiller.org/event/friday-night-shabbat-service-48/
END:VEVENT
BEGIN:VEVENT
DTSTART;TZID=UTC:20250719T183000
DTEND;TZID=UTC:20250719T213000
DTSTAMP:20260422T150242
CREATED:20250530T145208Z
LAST-MODIFIED:20250530T145208Z
UID:14695-1752949800-1752960600@templeisraelmiller.org
SUMMARY:Sisterhood at the Symphony
DESCRIPTION:
URL:https://templeisraelmiller.org/event/sisterhood-at-the-symphony-9/
END:VEVENT
BEGIN:VEVENT
DTSTART;TZID=UTC:20250722T190000
DTEND;TZID=UTC:20250722T200000
DTSTAMP:20260422T150242
CREATED:20250530T144951Z
LAST-MODIFIED:20250530T144951Z
UID:14688-1753210800-1753214400@templeisraelmiller.org
SUMMARY:Zoom Book Discussion
DESCRIPTION:
URL:https://templeisraelmiller.org/event/zoom-book-discussion-16/
END:VEVENT
BEGIN:VEVENT
DTSTART;TZID=UTC:20250725T193000
DTEND;TZID=UTC:20250725T210000
DTSTAMP:20260422T150242
CREATED:20250530T144801Z
LAST-MODIFIED:20250530T144801Z
UID:14680-1753471800-1753477200@templeisraelmiller.org
SUMMARY:Friday Night Shabbat Service
DESCRIPTION:
URL:https://templeisraelmiller.org/event/friday-night-shabbat-service-49/
END:VEVENT
BEGIN:VEVENT
DTSTART;TZID=UTC:20250729T190000
DTEND;TZID=UTC:20250729T200000
DTSTAMP:20260422T150242
CREATED:20250530T145019Z
LAST-MODIFIED:20250530T145019Z
UID:14690-1753815600-1753819200@templeisraelmiller.org
SUMMARY:Zoom Book Discussion
DESCRIPTION:
URL:https://templeisraelmiller.org/event/zoom-book-discussion-17/
END:VEVENT
END:VCALENDAR